BEGIN:VCALENDAR
VERSION:2.0
PRODID:-//ChamberMaster//Event Calendar 2.0//EN
METHOD:PUBLISH
X-PUBLISHED-TTL:P1H
REFRESH-INTERVAL:P1H
CALSCALE:GREGORIAN
BEGIN:VTIMEZONE
TZID:America/Chicago
BEGIN:DAYLIGHT
RRULE:FREQ=YEARLY;BYMONTH=3;BYDAY=2SU
DTSTART:20070101T000000
TZOFFSETFROM:-0600
TZOFFSETTO:-0500
TZNAME:Central Daylight Time
END:DAYLIGHT
BEGIN:STANDARD
RRULE:FREQ=YEARLY;BYMONTH=11;BYDAY=1SU
DTSTART:20070101T000000
TZOFFSETFROM:-0500
TZOFFSETTO:-0600
TZNAME:Central Standard Time
END:STANDARD
END:VTIMEZONE
BEGIN:VEVENT
DTSTART;TZID=America/Chicago:20260425T100000
DTEND;TZID=America/Chicago:20260425T120000
X-MICROSOFT-CDO-ALLDAYEVENT:FALSE
SUMMARY:Kids' May Basket Workshop
DESCRIPTION:Celebrate the beginning of May by bringing in the kids to create a pot of flowers to give to someone special. Our greenhouse team will help the kiddos choose from several different 4-packs of annuals to create a pretty container. This activity fosters kindness and celebrates spring\, offering a simple craft project for kids. Come anytime between 10 am and 12 pm. Appropriate for kids of all ages. We ask that an adult accompany your child. Please register ahead of time. Cost: $11.99 each.
X-ALT-DESC;FMTTYPE=text/html:<!DOCTYPE html><html><head><title></title></head><body aria-disabled="false"><p>Celebrate the beginning of May by bringing in the kids to create a pot of flowers to give to someone special. Our greenhouse team will help the kiddos choose from several different 4-packs of annuals to create a pretty container. This activity fosters kindness and celebrates spring\, offering a simple craft project for kids. Come anytime between 10 am and 12 pm. Appropriate for kids of all ages. We ask that an adult accompany your child. Please register ahead of time. Cost: $11.99 each.</p></body></html>
LOCATION:5205 Mormon Rd. Burlington WI 53105
UID:e.3103.1444422
SEQUENCE:3
DTSTAMP:20260419T175418Z
URL:https://business.experienceburlingtonwi.org/business-engagement-calendar/Details/kids-may-basket-workshop-1710800?sourceTypeId=Hub
END:VEVENT
END:VCALENDAR
